Workbook
Name _Hlk52447055: 'GT 1ºA C1'!$AE$28
Name Segundo_cuatrimestre: #REF!
Name Segundo_cuatrimestre: #REF!
Name Segundo_cuatrimestre: #REF!
Name Segundo_cuatrimestre: #REF!
Name Segundo_cuatrimestre: #REF!
Name Segundo_cuatrimestre: #REF!
Name Segundo_cuatrimestre: #REF!
Name Segundo_cuatrimestre: #REF!
Name Segundo_cuatrimestre: Indice!$S$13

Sheet Indice
A2: Facultad de Ciencias Económicas y Empresariales
A3: Horarios del Curso 2026-2027
B6: GRADOS
B7: GRADO EN ADE, FYCO, MARKETING Y ECONOMÍA
B8: GD | C8: TIT | D8: GT
B9: 1º B | C9: común | D9: B1-B2 | E9: M | F9: Primer cuatrimestre | G9: Segundo cuatrimestre | N9: GRADO EN TURISMO
B10: 1º C ING | C10: común | D10: C1-C2 | E10: M | F10: Primer cuatrimestre | G10: Segundo cuatrimestre | N10: GD | O10: GG | P10: GT
B11: 1º D | C11: común | D11: D1-D2 | E11: T | F11: Primer cuatrimestre | G11: Segundo cuatrimestre | N11: 1º A | O11: A | P11: A1-A2 | Q11: M | R11: Primer cuatrimestre | S11: Segundo cuatrimestre
B12: 1º E | C12: común | D12: E1-E2 | E12: T | F12: Primer cuatrimestre | G12: Segundo cuatrimestre | N12: 2º A | O12: A | P12: A1-A2 | Q12: M | R12: Primer cuatrimestre | S12: Segundo cuatrimestre
B13: 1º F | C13: común | D13: F1-F2 | E13: T | F13: Primer cuatrimestre | G13: Segundo cuatrimestre | N13: 2º B Inglés | O13: B | P13: B1 | Q13: M | R13: Primer cuatrimestre | S13: Segundo cuatrimestre
B14: 1º G** | C14: común | D14: G1-G2 | E14: M | F14: Primer cuatrimestre | G14: Segundo cuatrimestre | N14: 3º A | O14: A | P14: A1-A2 | Q14: M | R14: Primer cuatrimestre | S14: Segundo cuatrimestre
B15: 1º H | C15: común | D15: H1-H2 | E15: T | F15: Primer cuatrimestre | G15: Segundo cuatrimestre | N15: 4º A | O15: A | P15: A1-A2 | Q15: M | R15: Primer cuatrimestre | S15: Segundo cuatrimestre
B16: ** 1º G es el grupo en el que se integran los alumnos del Doble Grado en Economía y Matemáticas
B17: 2º B | C17: GADE | D17: B1-B2 | E17: M | F17: Primer cuatrimestre | G17: Segundo cuatrimestre
B18: 2º C | C18: GADE | D18: C1-C2 | E18: T | F18: Primer cuatrimestre | G18: Segundo cuatrimestre
B19: 2º A | C19: FYCO | D19: A1-A2 | E19: M | F19: Primer cuatrimestre | G19: Segundo cuatrimestre
B20: 2º B | C20: FYCO | D20: B1-B2 | E20: T | F20: Primer cuatrimestre | G20: Segundo cuatrimestre
B21: 2º A | C21: MK | D21: A1-A2 | E21: M | F21: Primer cuatrimestre | G21: Segundo cuatrimestre | N21: DOBLE GRADO DERECHO-ADE
B22: 2º A** | C22: ECO | D22: A1-A2 | E22: M | F22: Primer cuatrimestre | G22: Segundo cuatrimestre | N22: GD | P22: GT
B23: 2º ING | C23: GADE | D23: ING | E23: M | F23: Primer cuatrimestre | G23: Segundo cuatrimestre | N23: 1º A D+ADE | P23: D+ADE A1 - D+ADE A2 | Q23: M | R23: Primer cuatrimestre | S23: Segundo cuatrimestre
B24: 2º B ING | C24: FYCO | D24: ING | E24: M | G24: Segundo cuatrimestre | N24: 2º A D+ADE | P24: D+ADE A1 - D+ADE A2 | Q24: M | R24: Primer cuatrimestre | S24: Segundo cuatrimestre
B25: 2º C ING | C25: MK | D25: ING | E25: M | G25: Segundo cuatrimestre
B26: ** 2º A ECO es el grupo en el que se integran los alumnos del Doble Grado en Economía y Matemáticas | N26: 3º A D+ADE | P26: D+ADE A1 - D+ADE A2 | Q26: M | R26: Primer cuatrimestre | S26: Segundo cuatrimestre
B27: 3º B | C27: GADE | D27: B1-B2 | E27: M | F27: Primer cuatrimestre | G27: Segundo cuatrimestre | N27: 4º A D+ADE | P27: D+ADE A1 - D+ADE A2 | Q27: M | R27: Primer cuatrimestre | S27: Segundo cuatrimestre
B28: 3º C | C28: GADE | D28: C1-C2 | E28: T | F28: Primer cuatrimestre | G28: Segundo cuatrimestre | N28: 5º A D+ADE | P28: D+ADE A1 - D+ADE A2 | Q28: M | R28: Primer cuatrimestre | S28: Segundo cuatrimestre
B29: 3º D ING | C29: GADE | D29: Inglés | E29: M | F29: Primer cuatrimestre
B30: 3º A | C30: FYCO | D30: A1-A2 | E30: M | F30: Primer cuatrimestre | G30: Segundo cuatrimestre
B31: 3º B ING | C31: FYCO | D31: ING | E31: M | G31: Segundo cuatrimestre
B32: 3º A | C32: MK | D32: A1-A2 | E32: M | F32: Primer cuatrimestre | G32: Segundo cuatrimestre
B33: 3º A** | C33: ECO | D33: A1-A2 | E33: M | F33: Primer cuatrimestre | G33: Segundo cuatrimestre
B34: ** 3º A ECO es el grupo en el que se integran los alumnos del Doble Grado en Economía y Matemáticas
B35: 4º B | C35: GADE | D35: B1-B2 | E35: M | F35: Primer cuatrimestre | G35: Segundo cuatrimestre
B36: 4º C | C36: GADE | D36: C1 | E36: T | F36: Primer cuatrimestre | G36: Segundo cuatrimestre | R36: Calendario académico 2026-2027
B37: 4º A | C37: FYCO | D37: A1-A2 | E37: M | F37: Primer cuatrimestre | G37: Segundo cuatrimestre | K37: GD: Grupo Docente
B38: 4º A | C38: MK | D38: A1-A2 | E38: M | F38: Primer cuatrimestre | G38: Segundo cuatrimestre | K38: GT: Grupos de Trabajo
B39: 4º A | C39: ECO | D39: A1-A2 | E39: M | F39: Primer cuatrimestre | G39: Segundo cuatrimestre | K39: TIT: Titulación | R39: Fecha última versión | S39: 46275
B40: 4º ING | C40: FYCO | D40: ING | E40: M | F40: Primer cuatrimestre | K40: M: Turno de mañana / T: Turno de tarde
B41: 4º D ING | C41: GADE | D41: ING | E41: M-T | F41: Primer cuatrimestre | G41: Segundo cuatrimestre | K41: ** Se incluyen los estudiantes del Doble Grado en Economía y Matemáticas
B42: 4º E+M | C42: DGEM | D42: A1-A2 | E42: M | F42: Primer cuatrimestre | G42: Segundo cuatrimestre
B43: 5º E+M | C43: DGEM | D43: A1-A2 | E43: M | F43: Primer cuatrimestre | G43: Segundo cuatrimestre

Sheet calendario
B2: Calendario académico del curso 2026-2027
G3: Inicio
B6: Primer cuatrimestre | I6: Segundo cuatrimestre
B7: Semanas impares | E7: Semanas pares | I7: Semanas impares | L7: Semanas pares
B8: del | C8: al | E8: del | F8: al | I8: del | J8: al | L8: del | M8: al
A9: 1 | B9: 46279 | C9: =B9+6 -> 46285 | D9: 2 | E9: =C9+1 -> 46286 | F9: =E9+6 -> 46292 | H9: 16 | I9: 46433 | J9: =I9+6 -> 46439 | K9: 17 | L9: =J9+1 -> 46440 | M9: =L9+6 -> 46446
A10: 3 | B10: =F9+1 -> 46293 | C10: =B10+6 -> 46299 | D10: 4 | E10: =C10+1 -> 46300 | F10: =E10+6 -> 46306 | H10: 18 | I10: =M9+1 -> 46447 | J10: =I10+6 -> 46453 | K10: 19 | L10: =J10+1 -> 46454 | M10: =L10+6 -> 46460
A11: 5 | B11: =F10+1 -> 46307 | C11: =B11+6 -> 46313 | D11: 6 | E11: =C11+1 -> 46314 | F11: =E11+6 -> 46320 | H11: 20 | I11: =M10+1 -> 46461 | J11: =I11+6 -> 46467 | K11: 21 | L11: 46475 | M11: =L11+6 -> 46481
A12: 7 | B12: =F11+1 -> 46321 | C12: =B12+6 -> 46327 | D12: 8 | E12: =C12+1 -> 46328 | F12: =E12+6 -> 46334 | H12: 22 | I12: =M11+1 -> 46482 | J12: =I12+6 -> 46488 | K12: 23 | L12: =J12+1 -> 46489 | M12: =L12+6 -> 46495
A13: 9 | B13: =F12+1 -> 46335 | C13: =B13+6 -> 46341 | D13: 10 | E13: =C13+1 -> 46342 | F13: =E13+6 -> 46348 | H13: 24 | I13: =M12+1 -> 46496 | J13: =I13+6 -> 46502 | K13: 25 | L13: =J13+1 -> 46503 | M13: =L13+6 -> 46509
A14: 11 | B14: =F13+1 -> 46349 | C14: =B14+6 -> 46355 | D14: 12 | E14: =C14+1 -> 46356 | F14: =E14+6 -> 46362 | H14: 26 | I14: =M13+1 -> 46510 | J14: =I14+6 -> 46516 | K14: 27 | L14: =J14+1 -> 46517 | M14: =L14+6 -> 46523
A15: 13 | B15: =F14+1 -> 46363 | C15: =B15+6 -> 46369 | D15: 14 | E15: =C15+1 -> 46370 | F15: =E15+6 -> 46376 | H15: 28 | I15: =M14+1 -> 46524 | J15: =I15+6 -> 46530 | K15: 29 | L15: =J15+1 -> 46531 | M15: =L15+6 -> 46537
A16: 15 | B16: =F15+1 -> 46377 | C16: =B16+6 -> 46383

Sheet calendario UXXI
B2: Calendario académico del curso 2026-2027
G3: Inicio
B6: Primer cuatrimestre | I6: Segundo cuatrimestre
B7: Semanas impares | E7: Semanas pares | I7: Semanas impares | L7: Semanas pares
B8: del | C8: al | E8: del | F8: al | I8: del | J8: al | L8: del | M8: al
A9: 2 | B9: =calendario!B9 -> 46279 | C9: =calendario!C9 -> 46285 | D9: 3 | E9: =calendario!E9 -> 46286 | F9: =calendario!F9 -> 46292 | H9: 24 | I9: =calendario!I9 -> 46433 | J9: =calendario!J9 -> 46439 | K9: 25 | L9: =calendario!L9 -> 46440 | M9: =calendario!M9 -> 46446
A10: 4 | B10: =calendario!B10 -> 46293 | C10: =calendario!C10 -> 46299 | D10: 5 | E10: =calendario!E10 -> 46300 | F10: =calendario!F10 -> 46306 | H10: 26 | I10: =calendario!I10 -> 46447 | J10: =calendario!J10 -> 46453 | K10: 27 | L10: =calendario!L10 -> 46454 | M10: =calendario!M10 -> 46460
A11: 6 | B11: =calendario!B11 -> 46307 | C11: =calendario!C11 -> 46313 | D11: 7 | E11: =calendario!E11 -> 46314 | F11: =calendario!F11 -> 46320 | H11: 28 | I11: =calendario!I11 -> 46461 | J11: =calendario!J11 -> 46467 | K11: 30 | L11: =calendario!L11 -> 46475 | M11: =calendario!M11 -> 46481
A12: 8 | B12: =calendario!B12 -> 46321 | C12: =calendario!C12 -> 46327 | D12: 9 | E12: =calendario!E12 -> 46328 | F12: =calendario!F12 -> 46334 | H12: 31 | I12: =calendario!I12 -> 46482 | J12: =calendario!J12 -> 46488 | K12: 32 | L12: =calendario!L12 -> 46489 | M12: =calendario!M12 -> 46495
A13: 10 | B13: =calendario!B13 -> 46335 | C13: =calendario!C13 -> 46341 | D13: 11 | E13: =calendario!E13 -> 46342 | F13: =calendario!F13 -> 46348 | H13: 33 | I13: =calendario!I13 -> 46496 | J13: =calendario!J13 -> 46502 | K13: 34 | L13: =calendario!L13 -> 46503 | M13: =calendario!M13 -> 46509
A14: 12 | B14: =calendario!B14 -> 46349 | C14: =calendario!C14 -> 46355 | D14: 13 | E14: =calendario!E14 -> 46356 | F14: =calendario!F14 -> 46362 | H14: 35 | I14: =calendario!I14 -> 46510 | J14: =calendario!J14 -> 46516 | K14: 36 | L14: =calendario!L14 -> 46517 | M14: =calendario!M14 -> 46523
A15: 14 | B15: =calendario!B15 -> 46363 | C15: =calendario!C15 -> 46369 | D15: 15 | E15: =calendario!E15 -> 46370 | F15: =calendario!F15 -> 46376 | H15: 37 | I15: =calendario!I15 -> 46524 | J15: =calendario!J15 -> 46530 | K15: 38 | L15: =calendario!L15 -> 46531 | M15: =calendario!M15 -> 46537
A16: 16 | B16: =calendario!B16 -> 46377 | C16: =calendario!C16 -> 46383

Sheet 1ºDG C1
A1: Titulación: | D1: Grados ADE y Derecho | M1: Inicio
A2: Curso: | D2: 1º
A3: Grupo: | D3: A DOBLE GRADO | F3: Aula: | G3: 13 | H3: Aulario: | I3: 1
A4: Cuatrimestre: | D4: 1º
D7: Lunes | H7: Martes | L7: Miércoles | P7: Jueves | T7: Viernes
A8: 0.33333333 | B8: – | C8: 0.35416667 | X8: 0.33333333 | Y8: – | Z8: 0.35416667
A10: 0.35416667 | B10: – | C10: 0.375 | X10: 0.35416667 | Y10: – | Z10: 0.375
A12: 0.375 | B12: – | C12: 0.39583333 | D12: Introducción al Derecho GD [1] 63101102 NO DOBLE GRADO | L12: Matemáticas GD 63101104 | P12: Historia Económica GD 63101101 | T12: Introducción a la Economía GT-A1 [1]63101109 | V12: Introducción a la Administración de Empresas GT-A2 [2] 63101105 | X12: 0.375 | Y12: – | Z12: 0.39583333
A14: 0.39583333 | B14: – | C14: 0.41666667 | X14: 0.39583333 | Y14: – | Z14: 0.41666667
A16: 0.41666667 | B16: – | C16: 0.4375 | X16: 0.41666667 | Y16: – | Z16: 0.4375
A18: 0.4375 | B18: – | C18: 0.45833333 | X18: 0.4375 | Y18: – | Z18: 0.45833333
A20: 0.45833333 | B20: – | C20: 0.47916667 | D20: Introducción al Derecho GT-C1 [1] 63101102 NO DOBLE GRADO | F20: Introducción al Derecho GT-C2 [2] 63101102 NO DOBLE GRADO | H20: Introducción al Derecho GD 63101102 NO DOBLE GRADO | L20: Introducción a la Administración de Empresas GD 63101105 | P20: Introducción a la Administración de Empresas GD [1] 63101105 | R20: Introducción a la Economía GT-A2 [2] 63101109 | T20: Matemáticas GD [1] 63101104 | V20: Matemáticas GT -A1 [2] 63101104 | X20: 0.45833333 | Y20: – | Z20: 0.47916667
A22: 0.47916667 | B22: – | C22: 0.5 | X22: 0.47916667 | Y22: – | Z22: 0.5
A24: 0.5 | B24: – | C24: 0.52083333 | X24: 0.5 | Y24: – | Z24: 0.52083333
A26: 0.52083333 | B26: – | C26: 0.54166667 | X26: 0.52083333 | Y26: – | Z26: 0.54166667
A28: 0.54166667 | B28: – | C28: 0.5625 | F28: Historia Económica GT-C2 [2] 63101101 NO DOBLE GRADO | H28: Historia Económica GD [1] 63101101 | J28: Historia Económica GT-C1 [2] 63101101 | L28: Introducción a la Economía GD 63101109 | P28: Introducción a la Economía GD [1] 63101109 | R28: Matemáticas GT-A2 [2] 63101104 | V28: Introducción a la Administración de Empresas GT-A1 [2] 63101105 | X28: 0.54166667 | Y28: – | Z28: 0.5625
A30: 0.5625 | B30: – | C30: 0.58333333 | X30: 0.5625 | Y30: – | Z30: 0.58333333
A32: 0.58333333 | B32: – | C32: 0.60416667 | X32: 0.58333333 | Y32: – | Z32: 0.60416667
A34: 0.60416667 | B34: – | C34: 0.625 | X34: 0.60416667 | Y34: – | Z34: 0.625
D37: [1] Semana Impar
D38: [2] Semana Par
D41: DURANTE LA PRIMERA SEMANA DE CLASE DEL CUATRIMESTRE SOLO SE IMPARTIRÁN LOS GRUPOS DOCENTES

Sheet 1ºDG C2
A1: Titulación: | D1: Grados ADE, FINANZAS Y CONTABILIDAD, MARKETING Y ECONOMIA | U1: Inicio
A2: Curso: | D2: 1º
A3: Grupo: | D3: A DOBLE GRADO | F3: Aula: | G3: 13 | H3: Aulario: | I3: 1 | U3: GRUPO - DG
A4: Cuatrimestre: | D4: 2º
D7: Lunes | H7: Martes | L7: Miércoles | P7: Jueves | T7: Viernes
A8: 0.33333333 | B8: – | C8: 0.35416667 | X8: 0.33333333 | Y8: – | Z8: 0.35416667
A10: 0.35416667 | B10: – | C10: 0.375 | X10: 0.35416667 | Y10: – | Z10: 0.375
A12: 0.375 | B12: – | C12: 0.39583333 | D12: Estadística GD [1] 63101103 | F12: Introducción al Marketing GD [2] 63101108 | H12: Introducción al Marketing GT1- [1] 63101108 | J12: Microeconomía GT2 [2] 63101110 | L12: Microeconomía GD 63101110 | P12: Introducción a las Finanzas * GT2 [1] 63101106 | R12: Derecho | T12: Derecho | X12: 0.375 | Y12: – | Z12: 0.39583333
A14: 0.39583333 | B14: – | C14: 0.41666667 | X14: 0.39583333 | Y14: – | Z14: 0.41666667
A16: 0.41666667 | B16: – | C16: 0.4375 | X16: 0.41666667 | Y16: – | Z16: 0.4375
A18: 0.4375 | B18: – | C18: 0.45833333 | X18: 0.4375 | Y18: – | Z18: 0.45833333
A20: 0.45833333 | B20: – | C20: 0.47916667 | D20: Introducción a la Contabilidad GD [1] 63101107 | F20: Estadística GT2 [2] 63101103 | H20: Introducción a las Finanzas * GT1 [1] 63101106 | J20: Microeconomía GT1 [2] 63101110 | L20: Introducción a las Finanzas GD 63101106 | P20: Introducción a la Contabilidad * GT2 [1] 63101107 | R20: Derecho | X20: 0.45833333 | Y20: – | Z20: 0.47916667
A22: 0.47916667 | B22: – | C22: 0.5 | X22: 0.47916667 | Y22: – | Z22: 0.5
A24: 0.5 | B24: – | C24: 0.52083333 | X24: 0.5 | Y24: – | Z24: 0.52083333
A26: 0.52083333 | B26: – | C26: 0.54166667 | X26: 0.52083333 | Y26: – | Z26: 0.54166667
A28: 0.54166667 | B28: – | C28: 0.5625 | D28: Microeconomía GD [1] 63101110 | F28: Introducción a las Finanzas GD [2] 63101106 | H28: Introducción a la Contabilidad * GT1 [1] 63101107 | J28: Estadística GT1 [2] 63101103 | L28: Estadística GD 63101103 | P28: Introducción al Marketing * GT2- [1] 63101108 | R28: Derecho | X28: 0.54166667 | Y28: – | Z28: 0.5625
A30: 0.5625 | B30: – | C30: 0.58333333 | X30: 0.5625 | Y30: – | Z30: 0.58333333
A32: 0.58333333 | B32: – | C32: 0.60416667 | X32: 0.58333333 | Y32: – | Z32: 0.60416667
A34: 0.60416667 | B34: – | C34: 0.625 | X34: 0.60416667 | Y34: – | Z34: 0.625
A36: 0.625 | B36: – | C36: 0.64583333 | X36: 0.625 | Y36: – | Z36: 0.64583333
A38: 0.64583333 | B38: – | C38: 0.66666667 | X38: 0.64583333 | Y38: – | Z38: 0.66666667
A40: 0.66666667 | B40: – | C40: 0.6875 | H40: Introducción a la Contabilidad GD 63101107 | X40: 0.66666667 | Y40: – | Z40: 0.6875
A42: 0.6875 | B42: – | C42: 0.70833333 | X42: 0.6875 | Y42: – | Z42: 0.70833333
A44: 0.70833333 | B44: – | C44: 0.72916667 | X44: 0.70833333 | Y44: – | Z44: 0.72916667
A46: 0.72916667 | B46: – | C46: 0.75 | X46: 0.72916667 | Y46: – | Z46: 0.75
A48: 0.75 | B48: – | C48: 0.77083333 | H48: Introducción al Marketing GD 63101108 | X48: 0.75 | Y48: – | Z48: 0.77083333
A50: 0.77083333 | B50: – | C50: 0.79166667 | X50: 0.77083333 | Y50: – | Z50: 0.79166667
A52: 0.79166667 | B52: – | C52: 0.8125 | X52: 0.79166667 | Y52: – | Z52: 0.8125
A54: 0.8125 | B54: – | C54: 0.83333333 | X54: 0.8125 | Y54: – | Z54: 0.83333333
D59: [1] Semana Impar | M59: *Los alumnos del doble grado deben ir al GT1 en estas asignaturas, mientras que el resto debe contactar con el profesor para la asignación del GT
D60: [2] Semana Par
D63: DURANTE LA PRIMERA SEMANA DE CLASE DEL CUATRIMESTRE SOLO SE IMPARTIRÁN LOS GRUPOS DOCENTES

Sheet  2ºDG C1
A1: Titulación: | D1: Grado Administración de Empresas + Derecho | I1: Inicio
A2: Curso: | D2: 2º
A3: Grupo: | D3: A DOBLE GRADO | F3: Aula: | G3: 4 | H3: Aulario: | I3: EMPR.
A4: Cuatrimestre: | D4: 1º
D7: Lunes | H7: Martes | L7: Miércoles | P7: Jueves | T7: Viernes
A8: 0.33333333 | B8: – | C8: 0.35416667 | X8: 0.33333333 | Y8: – | Z8: 0.35416667
A10: 0.35416667 | B10: – | C10: 0.375 | X10: 0.35416667 | Y10: – | Z10: 0.375
A12: 0.375 | B12: – | C12: 0.39583333 | D12: Contabilidad Intermedia I GD 62102215 | H12: Contabilidad Intermedia I GT-A1 [1] 62102215 | L12: Derecho | P12: Derecho | T12: Derecho | X12: 0.375 | Y12: – | Z12: 0.39583333
A14: 0.39583333 | B14: – | C14: 0.41666667 | X14: 0.39583333 | Y14: – | Z14: 0.41666667
A16: 0.41666667 | B16: – | C16: 0.4375 | X16: 0.41666667 | Y16: – | Z16: 0.4375
A18: 0.4375 | B18: – | C18: 0.45833333 | X18: 0.4375 | Y18: – | Z18: 0.45833333
A20: 0.45833333 | B20: – | C20: 0.47916667 | D20: Habilidades de Dirección y Gestión GD 63102204 | H20: Contabilidad Intermedia I GD- [1] 62102215 | J20: Habilidades de Dirección y Gestión GT-A1 [2] | X20: 0.45833333 | Y20: – | Z20: 0.47916667
A22: 0.47916667 | B22: – | C22: 0.5 | X22: 0.47916667 | Y22: – | Z22: 0.5
A24: 0.5 | B24: – | C24: 0.52083333 | X24: 0.5 | Y24: – | Z24: 0.52083333
A26: 0.52083333 | B26: – | C26: 0.54166667 | X26: 0.52083333 | Y26: – | Z26: 0.54166667
A28: 0.54166667 | B28: – | C28: 0.5625 | H28: Contabilidad Intermedia I GT-A2 [1] 62102215 NO APARECE EN UXXI | J28: Habilidades de Dirección y Gestión GD[2] 63102204 | X28: 0.54166667 | Y28: – | Z28: 0.5625
A30: 0.5625 | B30: – | C30: 0.58333333 | X30: 0.5625 | Y30: – | Z30: 0.58333333
A32: 0.58333333 | B32: – | C32: 0.60416667 | X32: 0.58333333 | Y32: – | Z32: 0.60416667
A34: 0.60416667 | B34: – | C34: 0.625 | X34: 0.60416667 | Y34: – | Z34: 0.625
D39: [1] Semana Impar
D40: [2] Semana Par
D43: DURANTE LA PRIMERA SEMANA DE CLASE DEL CUATRIMESTRE SOLO SE IMPARTIRÁN LOS GRUPOS DOCENTES

Sheet 2ºDG C2
A1: Titulación: | D1: Grado Administración de Empresas + Derecho | M1: Inicio
A2: Curso: | D2: 2º
A3: Grupo: | D3: A DOBLE GRADO | F3: Aula: | G3: 4 | H3: Aulario: | I3: EMPR.
A4: Cuatrimestre: | D4: 2º
D7: Lunes | H7: Martes | L7: Miércoles | P7: Jueves | T7: Viernes
A8: 0.33333333 | B8: – | C8: 0.35416667 | X8: 0.33333333 | Y8: – | Z8: 0.35416667
A10: 0.35416667 | B10: – | C10: 0.375 | X10: 0.35416667 | Y10: – | Z10: 0.375
A12: 0.375 | B12: – | C12: 0.39583333 | P12: Diseño de la Organización GD-[1] 62102208 | R12: Diseño de la Organización GT-A [2] 62102208 | T12: Sistema Financiero GT-A1 [1] 62102221 | V12: Contabilidad Intermedia II GD [2] 62102216 | X12: 0.375 | Y12: – | Z12: 0.39583333
D13: Derecho | H13: Derecho | L13: Derecho
A14: 0.39583333 | B14: – | C14: 0.41666667 | X14: 0.39583333 | Y14: – | Z14: 0.41666667
A16: 0.41666667 | B16: – | C16: 0.4375 | X16: 0.41666667 | Y16: – | Z16: 0.4375
A18: 0.4375 | B18: – | C18: 0.45833333 | X18: 0.4375 | Y18: – | Z18: 0.45833333
A20: 0.45833333 | B20: – | C20: 0.47916667 | P20: Contabilidad Intermedia II GD 62102216 | T20: Contabilidad Intermedia II GT-A1 [1] 62102216 | V20: Sistema Financiero GD- [2] 62102221 | X20: 0.45833333 | Y20: – | Z20: 0.47916667
A22: 0.47916667 | B22: – | C22: 0.5 | X22: 0.47916667 | Y22: – | Z22: 0.5
A24: 0.5 | B24: – | C24: 0.52083333 | L24: Diseño de la Organización GD 62102208 | X24: 0.5 | Y24: – | Z24: 0.52083333
A26: 0.52083333 | B26: – | C26: 0.54166667 | X26: 0.52083333 | Y26: – | Z26: 0.54166667
A28: 0.54166667 | B28: – | C28: 0.5625 | P28: Sistema Financiero GD 62102221 | X28: 0.54166667 | Y28: – | Z28: 0.5625
A30: 0.5625 | B30: – | C30: 0.58333333 | X30: 0.5625 | Y30: – | Z30: 0.58333333
A32: 0.58333333 | B32: – | C32: 0.60416667 | X32: 0.58333333 | Y32: – | Z32: 0.60416667
A34: 0.60416667 | B34: – | C34: 0.625 | X34: 0.60416667 | Y34: – | Z34: 0.625
D39: [1] Semana Impar
D40: [2] Semana Par
D43: DURANTE LA PRIMERA SEMANA DE CLASE DEL CUATRIMESTRE SOLO SE IMPARTIRÁN LOS GRUPOS DOCENTES

Sheet 3ºDG C1
A1: Titulación: | B1: Grado Administración de Empresas + Derecho | N1: Inicio
A2: Curso: | B2: 3º
A3: Grupo: | B3: A DOBLE GRADO | F3: Aula: | G3: 13 | H3: Aulario: | I3: 4
A4: Cuatrimestre: | B4: 1º
D7: Lunes | H7: Martes | L7: Miércoles | P7: Jueves | T7: Viernes
A8: 0.33333333 | B8: – | C8: 0.35416667 | X8: 0.33333333 | Y8: – | Z8: 0.35416667
A10: 0.35416667 | B10: – | C10: 0.375 | P10: Derecho | T10: Derecho | X10: 0.35416667 | Y10: – | Z10: 0.375
A12: 0.375 | B12: – | C12: 0.39583333 | D12: Dirección Financiera I: Financiación GD 62103219 | H12: Macroeconomía GT- A1 [1] 63102201 | J12: Estadística Avanzada GD- [2] 63102202 | L12: Macroeconomía GD 63102201 | X12: 0.375 | Y12: – | Z12: 0.39583333
A14: 0.39583333 | B14: – | C14: 0.41666667 | X14: 0.39583333 | Y14: – | Z14: 0.41666667
A16: 0.41666667 | B16: – | C16: 0.4375 | X16: 0.41666667 | Y16: – | Z16: 0.4375
A18: 0.4375 | B18: – | C18: 0.45833333 | X18: 0.4375 | Y18: – | Z18: 0.45833333
A20: 0.45833333 | B20: – | C20: 0.47916667 | D20: Control de Gestión GD 62103217 | H20: Estadística Avanzada GT-A1 [1] 63102202 | J20: Control de Gestión GT- A1 [2] 62103217 | L20: Estadística Avanzada GD 63102202 | X20: 0.45833333 | Y20: – | Z20: 0.47916667
A22: 0.47916667 | B22: – | C22: 0.5 | X22: 0.47916667 | Y22: – | Z22: 0.5
A24: 0.5 | B24: – | C24: 0.52083333 | X24: 0.5 | Y24: – | Z24: 0.52083333
A26: 0.52083333 | B26: – | C26: 0.54166667 | X26: 0.52083333 | Y26: – | Z26: 0.54166667
A28: 0.54166667 | B28: – | C28: 0.5625 | H28: Dirección Financiera I: Financiación GT [1] 62103219 | J28: Macroeconomía GD [2] 63102201 | X28: 0.54166667 | Y28: – | Z28: 0.5625
A30: 0.5625 | B30: – | C30: 0.58333333 | X30: 0.5625 | Y30: – | Z30: 0.58333333
A32: 0.58333333 | B32: – | C32: 0.60416667 | X32: 0.58333333 | Y32: – | Z32: 0.60416667
A34: 0.60416667 | B34: – | C34: 0.625 | X34: 0.60416667 | Y34: – | Z34: 0.625
D38: [1] Semana Impar
D39: [2] Semana Par
D42: DURANTE LA PRIMERA SEMANA DE CLASE DEL CUATRIMESTRE SOLO SE IMPARTIRÁN LOS GRUPOS DOCENTES

Sheet 3ºDG C2
A1: Titulación: | B1: Grado Administración de Empresas + Derecho | K1: Inicio
A2: Curso: | B2: 3º
A3: Grupo: | B3: A DOBLE GRADO | F3: Aula: | G3: 13 | H3: Aulario: | I3: 4
A4: Cuatrimestre: | B4: 2º
D7: Lunes | H7: Martes | L7: Miércoles | P7: Jueves | T7: Viernes
A8: 0.33333333 | B8: – | C8: 0.35416667 | X8: 0.33333333 | Y8: – | Z8: 0.35416667
A10: 0.35416667 | B10: – | C10: 0.375 | X10: 0.35416667 | Y10: – | Z10: 0.375
A12: 0.375 | B12: – | C12: 0.39583333 | D12: Derecho | H12: Derecho | L12: Métodos Cuantitativos GT1[1] 62102205 | N12: Economía Española GT[2] 62102213 | P12: Contabilidad Avanzada GD 62103218 | V12: Dirección de Marketing GT[2] 62103224 | X12: 0.375 | Y12: – | Z12: 0.39583333
A14: 0.39583333 | B14: – | C14: 0.41666667 | X14: 0.39583333 | Y14: – | Z14: 0.41666667
A16: 0.41666667 | B16: – | C16: 0.4375 | X16: 0.41666667 | Y16: – | Z16: 0.4375
A18: 0.4375 | B18: – | C18: 0.45833333 | X18: 0.4375 | Y18: – | Z18: 0.45833333
A20: 0.45833333 | B20: – | C20: 0.47916667 | L20: Economía Española GD 62102213 | P20: Dirección de Marketing GD 62103224 | T20: Contabilidad Avanzada GT[1] 62103218 | V20: Métodos Cuantitativos GD1[2] 62102205 | X20: 0.45833333 | Y20: – | Z20: 0.47916667
A22: 0.47916667 | B22: – | C22: 0.5 | X22: 0.47916667 | Y22: – | Z22: 0.5
A24: 0.5 | B24: – | C24: 0.52083333 | X24: 0.5 | Y24: – | Z24: 0.52083333
A26: 0.52083333 | B26: – | C26: 0.54166667 | X26: 0.52083333 | Y26: – | Z26: 0.54166667
A28: 0.54166667 | B28: – | C28: 0.5625 | L28: Metodos Cuantitativos GD 62102205 | P28: Economía Española GD 62102213 | X28: 0.54166667 | Y28: – | Z28: 0.5625
A30: 0.5625 | B30: – | C30: 0.58333333 | X30: 0.5625 | Y30: – | Z30: 0.58333333
A32: 0.58333333 | B32: – | C32: 0.60416667 | X32: 0.58333333 | Y32: – | Z32: 0.60416667
A34: 0.60416667 | B34: – | C34: 0.625 | X34: 0.60416667 | Y34: – | Z34: 0.625
D38: [1] Semana Impar
D39: [2] Semana Par
D42: DURANTE LA PRIMERA SEMANA DE CLASE DEL CUATRIMESTRE SOLO SE IMPARTIRÁN LOS GRUPOS DOCENTES

Sheet 4ºDG C1
A1: Titulación: | B1: Grado Administración de Empresas + Derecho | K1: Inicio
A2: Curso: | B2: 4º
A3: Grupo: | B3: A DOBLE GRADO | F3: Aula: | G3: 20 | H3: Aulario: | I3: 4
A4: Cuatrimestre: | B4: 1º
D7: Lunes | H7: Martes | L7: Miércoles | P7: Jueves | T7: Viernes
A8: 0.33333333 | B8: – | C8: 0.35416667 | X8: 0.33333333 | Y8: – | Z8: 0.35416667
A10: 0.35416667 | B10: – | C10: 0.375 | X10: 0.35416667 | Y10: – | Z10: 0.375
A12: 0.375 | B12: – | C12: 0.39583333 | D12: Derecho | H12: Derecho | L12: Economía Mundial GD 62103214 | P12: Dirección de Operaciones I GT (1) 62103210 | R12: Investigación de Mercados GT (2) 62103222 | T12: Dirección de Operaciones I GD 62103210 | X12: 0.375 | Y12: – | Z12: 0.39583333
A14: 0.39583333 | B14: – | C14: 0.41666667 | X14: 0.39583333 | Y14: – | Z14: 0.41666667
A16: 0.41666667 | B16: – | C16: 0.4375 | X16: 0.41666667 | Y16: – | Z16: 0.4375
A18: 0.4375 | B18: – | C18: 0.45833333 | X18: 0.4375 | Y18: – | Z18: 0.45833333
A20: 0.45833333 | B20: – | C20: 0.47916667 | L20: Gestión de la Calidad GD 62104212 | P20: Gestión de la Calidad GT (1) 62104212 | R20: Economía Mundial GT (2) 62103214 | X20: 0.45833333 | Y20: – | Z20: 0.47916667
A22: 0.47916667 | B22: – | C22: 0.5 | X22: 0.47916667 | Y22: – | Z22: 0.5
A24: 0.5 | B24: – | C24: 0.52083333 | X24: 0.5 | Y24: – | Z24: 0.52083333
A26: 0.52083333 | B26: – | C26: 0.54166667 | X26: 0.52083333 | Y26: – | Z26: 0.54166667
A28: 0.54166667 | B28: – | C28: 0.5625 | L28: Investigación de Mercados GD 62103222 | X28: 0.54166667 | Y28: – | Z28: 0.5625
A30: 0.5625 | B30: – | C30: 0.58333333 | X30: 0.5625 | Y30: – | Z30: 0.58333333
A32: 0.58333333 | B32: – | C32: 0.60416667 | X32: 0.58333333 | Y32: – | Z32: 0.60416667
A34: 0.60416667 | B34: – | C34: 0.625 | X34: 0.60416667 | Y34: – | Z34: 0.625
D38: [1] Semana Impar
D39: [2] Semana Par
D42: DURANTE LA PRIMERA SEMANA DE CLASE DEL CUATRIMESTRE SOLO SE IMPARTIRÁN LOS GRUPOS DOCENTES

Sheet 4ºDG C2
A1: Titulación: | B1: Grado Administración de Empresas + Derecho | K1: Inicio
A2: Curso: | B2: 4º
A3: Grupo: | B3: A DOBLE GRADO | F3: Aula: | G3: 20 | H3: Aulario: | I3: 4
A4: Cuatrimestre: | B4: 2º
D7: Lunes | H7: Martes | L7: Miércoles | P7: Jueves | T7: Viernes
A8: 0.33333333 | B8: – | C8: 0.35416667 | X8: 0.33333333 | Y8: – | Z8: 0.35416667
A10: 0.35416667 | B10: – | C10: 0.375 | X10: 0.35416667 | Y10: – | Z10: 0.375
A12: 0.375 | B12: – | C12: 0.39583333 | D12: Dirección Financiera II GD 62103220 | H12: Dirección Financiera II GT-A1 (1) 62103220 | L12: Derecho | P12: Derecho | T12: Derecho | X12: 0.375 | Y12: – | Z12: 0.39583333
A14: 0.39583333 | B14: – | C14: 0.41666667 | X14: 0.39583333 | Y14: – | Z14: 0.41666667
A16: 0.41666667 | B16: – | C16: 0.4375 | X16: 0.41666667 | Y16: – | Z16: 0.4375
A18: 0.4375 | B18: – | C18: 0.45833333 | X18: 0.4375 | Y18: – | Z18: 0.45833333
A20: 0.45833333 | B20: – | C20: 0.47916667 | D20: Dirección de Operaciones II GD 62103211 | H20: Dirección de Operaciones II GT (1) 62103211 | X20: 0.45833333 | Y20: – | Z20: 0.47916667
A22: 0.47916667 | B22: – | C22: 0.5 | X22: 0.47916667 | Y22: – | Z22: 0.5
A24: 0.5 | B24: – | C24: 0.52083333 | X24: 0.5 | Y24: – | Z24: 0.52083333
A26: 0.52083333 | B26: – | C26: 0.54166667 | X26: 0.52083333 | Y26: – | Z26: 0.54166667
A28: 0.54166667 | B28: – | C28: 0.5625 | X28: 0.54166667 | Y28: – | Z28: 0.5625
A30: 0.5625 | B30: – | C30: 0.58333333 | X30: 0.5625 | Y30: – | Z30: 0.58333333
A32: 0.58333333 | B32: – | C32: 0.60416667 | X32: 0.58333333 | Y32: – | Z32: 0.60416667
A34: 0.60416667 | B34: – | C34: 0.625 | X34: 0.60416667 | Y34: – | Z34: 0.625
D38: [1] Semana Impar
D39: [2] Semana Par
D42: DURANTE LA PRIMERA SEMANA DE CLASE DEL CUATRIMESTRE SOLO SE IMPARTIRÁN LOS GRUPOS DOCENTES

Sheet  5º DG C1 
A1: Titulación: | D1: Grado en Administración y Dirección de Empresas (Plan 2010) | M1: Inicio
A2: Curso: | D2: 5º
A3: Grupo: | D3: Doble Grado D+ADE | F3: Aula: | G3: 1 | H3: Aulario: | I3: EMPR.
A4: Cuatrimestre: | D4: 1º
D7: Lunes | H7: Martes | L7: Miércoles | P7: Jueves | T7: Viernes
A8: 0.33333333 | B8: – | C8: 0.35416667 | X8: 0.33333333 | Y8: – | Z8: 0.35416667
A10: 0.35416667 | B10: – | C10: 0.375 | X10: 0.35416667 | Y10: – | Z10: 0.375
A12: 0.375 | B12: – | C12: 0.39583333 | D12: Derecho | H12: Derecho | L12: Derecho | P12: Marketing Estratégico GD 62104223 | V12: Dirección Estratégica I GT 62104206 [2] | X12: 0.375 | Y12: – | Z12: 0.39583333
A14: 0.39583333 | B14: – | C14: 0.41666667 | X14: 0.39583333 | Y14: – | Z14: 0.41666667
A16: 0.41666667 | B16: – | C16: 0.4375 | X16: 0.41666667 | Y16: – | Z16: 0.4375
A18: 0.4375 | B18: – | C18: 0.45833333 | X18: 0.4375 | Y18: – | Z18: 0.45833333
A20: 0.45833333 | B20: – | C20: 0.47916667 | P20: Dirección Estratégica I. GD 62104206 | V20: Marketing Estratégico GT 62104223 [2] | X20: 0.45833333 | Y20: – | Z20: 0.47916667
A22: 0.47916667 | B22: – | C22: 0.5 | X22: 0.47916667 | Y22: – | Z22: 0.5
A24: 0.5 | B24: – | C24: 0.52083333 | X24: 0.5 | Y24: – | Z24: 0.52083333
A26: 0.52083333 | B26: – | C26: 0.54166667 | X26: 0.52083333 | Y26: – | Z26: 0.54166667
A28: 0.54166667 | B28: – | C28: 0.5625 | X28: 0.54166667 | Y28: – | Z28: 0.5625
A30: 0.5625 | B30: – | C30: 0.58333333 | X30: 0.5625 | Y30: – | Z30: 0.58333333
A32: 0.58333333 | B32: – | C32: 0.60416667 | X32: 0.58333333 | Y32: – | Z32: 0.60416667
A34: 0.60416667 | B34: – | C34: 0.625 | X34: 0.60416667 | Y34: – | Z34: 0.625
A36: 0.625 | B36: – | C36: 0.64583333 | D36: Espacio disponible (sin clase) para tutorización de TFGs (a reservar aula por profesor)
A38: 0.64583333 | B38: – | C38: 0.66666667
A40: 0.66666667 | B40: – | C40: 0.6875
A42: 0.6875 | B42: – | C42: 0.70833333 | H42: Espacio disponible (sin clase) para tutorización de TFGs (a reservar aula por profesor)
A44: 0.70833333 | B44: – | C44: 0.72916667
A46: 0.72916667 | B46: – | C46: 0.75
D49: [1] Semanas impares
D50: [2] Semanas pares
D52: Todos los grupos docentes son multimodales

Sheet  5º DG C2
A1: Titulación: | D1: Grado en Administración y Dirección de Empresas (Plan 2010) | M1: Inicio
A2: Curso: | D2: 5º | T2: HASTA EL 31 DE MARZO DE 2027
A3: Grupo: | D3: Doble Grado D+ADE | F3: Aula: | G3: 1 | H3: Aulario: | I3: EMPR. | T3: La distribución de horas de GD y GT en cada asignatura es aproximada
A4: Cuatrimestre: | D4: 2º | T4: El profesor podrá variar la distribución de estas horas hasta completar la docencia
T5: 31 horas GD y 14 horas GT en las 5 semanas del periodo de docencia
D7: Lunes | H7: Martes | L7: Miércoles | P7: Jueves | T7: Viernes
A8: 0.33333333 | B8: – | C8: 0.35416667 | X8: 0.33333333 | Y8: – | Z8: 0.35416667
A10: 0.35416667 | B10: – | C10: 0.375 | X10: 0.35416667 | Y10: – | Z10: 0.375
A12: 0.375 | B12: – | C12: 0.39583333 | D12: Organización y Gestión de los Recursos Humanos GD 62103209 | H12: Dirección Estratégica II GT 62104207 | L12: Organización y Gestión de los Recursos Humanos GD 62103209 | P12: Organización y Gestión de los Recursos Humanos GD- 62103209 | T12: Dirección Estratégica II GD/GT 62104207 | X12: 0.375 | Y12: – | Z12: 0.39583333
A14: 0.39583333 | B14: – | C14: 0.41666667 | X14: 0.39583333 | Y14: – | Z14: 0.41666667
A16: 0.41666667 | B16: – | C16: 0.4375 | X16: 0.41666667 | Y16: – | Z16: 0.4375
A18: 0.4375 | B18: – | C18: 0.45833333 | X18: 0.4375 | Y18: – | Z18: 0.45833333
A20: 0.45833333 | B20: – | C20: 0.47916667 | D20: Dirección Estratégica II GD 62104207 | H20: Organización y Gestión de los Recursos Humanos GT 62103209 | L20: Creación de Empresas GD 63104226 | P20: Dirección Estratégica II GD 62104207 | T20: Organización y Gestión de los Recursos Humanos GD/GT 62103209 | X20: 0.45833333 | Y20: – | Z20: 0.47916667
A22: 0.47916667 | B22: – | C22: 0.5 | X22: 0.47916667 | Y22: – | Z22: 0.5
A24: 0.5 | B24: – | C24: 0.52083333 | X24: 0.5 | Y24: – | Z24: 0.52083333
A26: 0.52083333 | B26: – | C26: 0.54166667 | X26: 0.52083333 | Y26: – | Z26: 0.54166667
A28: 0.54166667 | B28: – | C28: 0.5625 | D28: Creación de Empresas GD 63104226 | H28: Creación de Empresas GT--A2 63104226 | L28: Dirección Estratégica II GD 62104207 | P28: Creación de Empresas GD 63104226 | T28: Creación de Empresas GD-GT- 63104226 | X28: 0.54166667 | Y28: – | Z28: 0.5625
A30: 0.5625 | B30: – | C30: 0.58333333 | X30: 0.5625 | Y30: – | Z30: 0.58333333
A32: 0.58333333 | B32: – | C32: 0.60416667 | X32: 0.58333333 | Y32: – | Z32: 0.60416667
A34: 0.60416667 | B34: – | C34: 0.625 | X34: 0.60416667 | Y34: – | Z34: 0.625
A36: 0.625 | B36: – | C36: 0.64583333 | D36: Espacio disponible (sin clase) para tutorización de TFGs (a reservar aula por profesor)
A38: 0.64583333 | B38: – | C38: 0.66666667
A40: 0.66666667 | B40: – | C40: 0.6875
A42: 0.6875 | B42: – | C42: 0.70833333 | H42: Espacio disponible (sin clase) para tutorización de TFGs (a reservar aula por profesor)
A44: 0.70833333 | B44: – | C44: 0.72916667
A46: 0.72916667 | B46: – | C46: 0.75

Sheet 1ºB C1
A1: Titulación: | D1: Grados ADE, FINANZAS Y CONTABILIDAD, MARKETING Y ECONOMIA | L1: Inicio
A2: Curso: | D2: 1º
A3: Grupo: | D3: B | F3: Aula: | G3: 2 | H3: Aulario: | I3: 2
A4: Cuatrimestre: | D4: 1º
D7: Lunes | H7: Martes | L7: Miércoles | P7: Jueves | T7: Viernes
A8: 0.33333333 | B8: – | C8: 0.35416667 | X8: 0.33333333 | Y8: – | Z8: 0.35416667
A10: 0.35416667 | B10: – | C10: 0.375 | X10: 0.35416667 | Y10: – | Z10: 0.375
A12: 0.375 | B12: – | C12: 0.39583333 | D12: Introducción al Derecho GD 63101102 | H12: Matemáticas GD 63101104 | L12: Introducción a la Administración de Empresas GD [1] 63101105 | N12: Introducción a la Administración de Empresas GT-B1 [2] 63101105 | P12: Introducción a la Economía GT-B2 [1] 63101109 | R12: Introducción a la Economía GD [2] 63101109 | T12: Historia Económica GD [1] 63101101 | V12: Matemáticas GD [2] 63101104 | X12: 0.375 | Y12: – | Z12: 0.39583333
A14: 0.39583333 | B14: – | C14: 0.41666667 | X14: 0.39583333 | Y14: – | Z14: 0.41666667
A16: 0.41666667 | B16: – | C16: 0.4375 | X16: 0.41666667 | Y16: – | Z16: 0.4375
A18: 0.4375 | B18: – | C18: 0.45833333 | X18: 0.4375 | Y18: – | Z18: 0.45833333
A20: 0.45833333 | B20: – | C20: 0.47916667 | D20: Historia Económica GD 63101101 | H20: Introducción a la Economía GD 63101109 | L20: Matemáticas GT-B1 [1] 63101104 | N20: Introducción a la Economía GT-B1 [2] 63101109 | P20: Introducción al Derecho GT-B2 [1] 63101102 | R20: Historia Económica GT-B2 [2] 63101101 | V20: Introducción al Derecho GD [2] 63101102 | X20: 0.45833333 | Y20: – | Z20: 0.47916667
A22: 0.47916667 | B22: – | C22: 0.5 | X22: 0.47916667 | Y22: – | Z22: 0.5
A24: 0.5 | B24: – | C24: 0.52083333 | X24: 0.5 | Y24: – | Z24: 0.52083333
A26: 0.52083333 | B26: – | C26: 0.54166667 | X26: 0.52083333 | Y26: – | Z26: 0.54166667
A28: 0.54166667 | B28: – | C28: 0.5625 | H28: Introducción a la Administración de Empresas GD 63101105 | L28: Introducción al Derecho GT-B1 [1] 63101102 | N28: Historia Económica GT-B1 [2] 63101101 | P28: Matemáticas GT-B2 [1] 63101104 | R28: Introducción a la Administración de Empresas GT-B2 [2] 63101105 | X28: 0.54166667 | Y28: – | Z28: 0.5625
A30: 0.5625 | B30: – | C30: 0.58333333 | X30: 0.5625 | Y30: – | Z30: 0.58333333
A32: 0.58333333 | B32: – | C32: 0.60416667 | X32: 0.58333333 | Y32: – | Z32: 0.60416667
A34: 0.60416667 | B34: – | C34: 0.625 | X34: 0.60416667 | Y34: – | Z34: 0.625
D38: [1] Semana Impar
D39: [2] Semana Par
D42: DURANTE LA PRIMERA SEMANA DE CLASE DEL CUATRIMESTRE SOLO SE IMPARTIRÁN LOS GRUPOS DOCENTES

Sheet 1ºB C2
A1: Titulación: | D1: Grados ADE, FINANZAS Y CONTABILIDAD, MARKETING Y ECONOMIA | M1: 6310 | Q1: Inicio
A2: Curso: | D2: 1º
A3: Grupo: | D3: B | F3: Aula: | G3: 2 | H3: Aulario: | I3: 2
A4: Cuatrimestre: | D4: 2º
E7: Lunes | I7: Martes | M7: Miércoles | Q7: Jueves | U7: Viernes
A8: 0.33333333 | B8: – | C8: 0.35416667 | Y8: 0.33333333 | Z8: – | AA8: 0.35416667
A10: 0.35416667 | B10: – | C10: 0.375 | Y10: 0.35416667 | Z10: – | AA10: 0.375
A12: 0.375 | B12: – | C12: 0.39583333 | D12: Introducción al Marketing GD 63101108 | I12: Microeconomía GD 63101110 | M12: Introducción a las Finanzas GT-B1 [1] 63101106 | O12: Microeconomía GT-B1 [2] 63101110 | S12: Estadística GD [2] 63101103 | U12: Estadística G.D. 63101103 | Y12: 0.375 | Z12: – | AA12: 0.39583333
A14: 0.39583333 | B14: – | C14: 0.41666667 | Y14: 0.39583333 | Z14: – | AA14: 0.41666667
A16: 0.41666667 | B16: – | C16: 0.4375 | Y16: 0.41666667 | Z16: – | AA16: 0.4375
A18: 0.4375 | B18: – | C18: 0.45833333 | Y18: 0.4375 | Z18: – | AA18: 0.45833333
A20: 0.45833333 | B20: – | C20: 0.47916667 | D20: Introducción a la Contabilidad GD 63101107 | I20: Introducción a las Finanzas GT-B2 [1] 63101106 | K20: Introducción a la Contabilidad GD [2] 63101107 | M20: Introducción al Marketing GT-B1 [1] 63101108 | O20: Introducción a la Contabilidad GT-B1 [2] 63101107 | Q20: Introducción al Marketing GT-B2 [1] 63101108 | R20: Estadística GT-B1 [1] 63101103 | S20: Microeconomía GT-B2 [2] 63101110 | U20: Microeconomía GD [1] 63101110 | W20: Introducción al Marketing GD [2] 63101108 | Y20: 0.45833333 | Z20: – | AA20: 0.47916667
A22: 0.47916667 | B22: – | C22: 0.5 | Y22: 0.47916667 | Z22: – | AA22: 0.5
A24: 0.5 | B24: – | C24: 0.52083333 | Y24: 0.5 | Z24: – | AA24: 0.52083333
A26: 0.52083333 | B26: – | C26: 0.54166667 | Y26: 0.52083333 | Z26: – | AA26: 0.54166667
A28: 0.54166667 | B28: – | C28: 0.5625 | D28: Introducción a las Finanzas GD [1] 63101106 | F28: Introducción a la Contabilidad GT-B2 [2] 63101107 | Q28: Estadística GT-B2 [1] 63101103 | U28: Introducción a las Finanzas GD 63101106 | Y28: 0.54166667 | Z28: – | AA28: 0.5625
A30: 0.5625 | B30: – | C30: 0.58333333 | Y30: 0.5625 | Z30: – | AA30: 0.58333333
A32: 0.58333333 | B32: – | C32: 0.60416667 | Y32: 0.58333333 | Z32: – | AA32: 0.60416667
A34: 0.60416667 | B34: – | C34: 0.625 | Y34: 0.60416667 | Z34: – | AA34: 0.625
D38: [1] Semana Impar
D39: [2] Semana Par
D42: DURANTE LA PRIMERA SEMANA DE CLASE DEL CUATRIMESTRE SOLO SE IMPARTIRÁN LOS GRUPOS DOCENTES

Sheet 1ºC ING C1
A1: Titulación: | D1: Grados ADE, FINANZAS Y CONTABILIDAD, MARKETING Y ECONOMIA | M1: Inicio
A2: Curso: | D2: 1º
A3: Grupo: | D3: C - ING | F3: Aula: | G3: 2 | H3: Aulario: | I3: EMPR | M3: GRUPO BILINGÜE | T3: GRUPO - Bilingüe adaptado a DG
A4: Cuatrimestre: | D4: 1º
D7: Lunes | H7: Martes | L7: Miércoles | P7: Jueves | T7: Viernes
A8: 0.33333333 | B8: – | C8: 0.35416667 | X8: 0.33333333 | Y8: – | Z8: 0.35416667
A10: 0.35416667 | B10: – | C10: 0.375 | X10: 0.35416667 | Y10: – | Z10: 0.375
A12: 0.375 | B12: – | C12: 0.39583333 | D12: Introducción al Derecho GD [1] 63101102 | F12: Matemáticas GD[2] 63101104 | J12: Introducción a la Economía GT-C2 [2] 63101109 | L12: Matemáticas GD 63101104 | P12: Historia Económica GD 63101101 | T12: Introducción a la Administración de Empresas GT-C1 [1] 63101105 | V12: Introducción a la Administración de Empresas GT-C2 [2] 63101105 | X12: 0.375 | Y12: – | Z12: 0.39583333
A14: 0.39583333 | B14: – | C14: 0.41666667 | X14: 0.39583333 | Y14: – | Z14: 0.41666667
A16: 0.41666667 | B16: – | C16: 0.4375 | X16: 0.41666667 | Y16: – | Z16: 0.4375
A18: 0.4375 | B18: – | C18: 0.45833333 | X18: 0.4375 | Y18: – | Z18: 0.45833333
A20: 0.45833333 | B20: – | C20: 0.47916667 | D20: Introducción al Derecho GT-C1 [1] 63101102 | F20: Introducción al Derecho GT-C2 [2] 63101102 | H20: Introducción al Derecho GD 63101102 | L20: Introducción a la Administración de Empresas GD 63101105 | P20: Introducción a la Administración de Empresas GD [1] 63101105 | T20: Matemáticas GT-C1 [1] 63101104 | V20: Matemáticas GT-C2 [2] 63101104 | X20: 0.45833333 | Y20: – | Z20: 0.47916667
A22: 0.47916667 | B22: – | C22: 0.5 | X22: 0.47916667 | Y22: – | Z22: 0.5
A24: 0.5 | B24: – | C24: 0.52083333 | X24: 0.5 | Y24: – | Z24: 0.52083333
A26: 0.52083333 | B26: – | C26: 0.54166667 | X26: 0.52083333 | Y26: – | Z26: 0.54166667
A28: 0.54166667 | B28: – | C28: 0.5625 | D28: Introducción a la Economía GT-C1 [1] 63101109 | F28: Historia Económica GT-C2 [2] 63101101 | H28: Historia Económica GD [1] 63101101 | J28: Historia Económica GT-C1 [2] 63101101 | L28: Introducción a la Economía GD 63101109 | P28: Introducción a la Economía GD [1] 63101109 | X28: 0.54166667 | Y28: – | Z28: 0.5625
A30: 0.5625 | B30: – | C30: 0.58333333 | X30: 0.5625 | Y30: – | Z30: 0.58333333
A32: 0.58333333 | B32: – | C32: 0.60416667 | X32: 0.58333333 | Y32: – | Z32: 0.60416667
A34: 0.60416667 | B34: – | C34: 0.625 | X34: 0.60416667 | Y34: – | Z34: 0.625
D38: [1] Semana Impar
D39: [2] Semana Par
D42: DURANTE LA PRIMERA SEMANA DE CLASE DEL CUATRIMESTRE SOLO SE IMPARTIRÁN LOS GRUPOS DOCENTES

Sheet 1ºC ING C2
A1: Titulación: | D1: Grados ADE, FINANZAS Y CONTABILIDAD, MARKETING Y ECONOMIA | U1: Inicio
A2: Curso: | D2: 1º
A3: Grupo: | D3: C - ING | F3: Aula: | G3: 2 | H3: Aulario: | I3: EMPR | U3: GRUPO -Bili adaptado a DG
A4: Cuatrimestre: | D4: 2º
D7: Lunes | H7: Martes | L7: Miércoles | P7: Jueves | T7: Viernes
A8: 0.33333333 | B8: – | C8: 0.35416667 | X8: 0.33333333 | Y8: – | Z8: 0.35416667
A10: 0.35416667 | B10: – | C10: 0.375 | X10: 0.35416667 | Y10: – | Z10: 0.375
A12: 0.375 | B12: – | C12: 0.39583333 | D12: Estadística GD [1] 63101103 | F12: Introducción al Marketing GD [2] 63101108 | H12: Microeconomía GD [1] 63101110 | J12: Introducción a las Finanzas GD [2] 63101106 | L12: Microeconomía GD 63101110 | P12: Introducción al Marketing GD 63101108 | T12: Introducción a la Contabilidad GD [1] 63101107 | V12: Introducción a la Contabilidad GT-C1 [2] 63101107 | X12: 0.375 | Y12: – | Z12: 0.39583333
A14: 0.39583333 | B14: – | C14: 0.41666667 | X14: 0.39583333 | Y14: – | Z14: 0.41666667
A16: 0.41666667 | B16: – | C16: 0.4375 | X16: 0.41666667 | Y16: – | Z16: 0.4375
A18: 0.4375 | B18: – | C18: 0.45833333 | X18: 0.4375 | Y18: – | Z18: 0.45833333
A20: 0.45833333 | B20: – | C20: 0.47916667 | D20: Introducción a las Finanzas GT-C2 [1] 63101106 | F20: Estadística GT-C2 [2] 63101103 | H20: Introducción a las Finanzas GT-C1 [1] 63101106 | J20: Microeconomía GT-C1 [2] 63101110 | L20: Introducción a las Finanzas GD 63101106 | P20: Introducción a la Contabilidad GD 63101107 | V20: Introducción a la Contabilidad GT-C2 [2] 63101107 | X20: 0.45833333 | Y20: – | Z20: 0.47916667
A22: 0.47916667 | B22: – | C22: 0.5 | X22: 0.47916667 | Y22: – | Z22: 0.5
A24: 0.5 | B24: – | C24: 0.52083333 | X24: 0.5 | Y24: – | Z24: 0.52083333
A26: 0.52083333 | B26: – | C26: 0.54166667 | X26: 0.52083333 | Y26: – | Z26: 0.54166667
A28: 0.54166667 | B28: – | C28: 0.5625 | D28: Introducción al Marketing GT-C2 [1] 63101108 | F28: Microeconomía GTC2 [2] 63101110 | H28: Introducción al Marketing GT-C1 [1] 63101108 | J28: Estadística GT-C1 [2] 63101103 | L28: Estadística GD 63101103 | P28: Estadística GD 63101103 | X28: 0.54166667 | Y28: – | Z28: 0.5625
A30: 0.5625 | B30: – | C30: 0.58333333 | X30: 0.5625 | Y30: – | Z30: 0.58333333
A32: 0.58333333 | B32: – | C32: 0.60416667 | X32: 0.58333333 | Y32: – | Z32: 0.60416667
A34: 0.60416667 | B34: – | C34: 0.625 | X34: 0.60416667 | Y34: – | Z34: 0.625
D38: [1] Semana Impar
D39: [2] Semana Par
D42: DURANTE LA PRIMERA SEMANA DE CLASE DEL CUATRIMESTRE SOLO SE IMPARTIRÁN LOS GRUPOS DOCENTES

Sheet 1ºD C1
A1: Titulación: | D1: Grados ADE, FINANZAS Y CONTABILIDAD, MARKETING Y ECONOMIA | M1: Inicio
A2: Curso: | D2: 1º
A3: Grupo: | D3: D | F3: Aula: | G3: 9 | H3: Aulario: | I3: 2
A4: Cuatrimestre: | D4: 1º
D7: Lunes | H7: Martes | L7: Miércoles | P7: Jueves | T7: Viernes
A12: 0.625 | B12: – | C12: 0.64583333 | D12: Introducción a la Economía GD 63101109 | H12: Matemáticas GD 63101104 | L12: Historia Económica GD 63101101 | P12: Introducción a la Administración de Empresas GT-D2 [1] 63101105 | Q12: Matemáticas GT-D1 [1] 63101104 | R12: Introducción a la Economía GT-D2 [2] 63101109 | S12: Historia Económica GT-D1 [2] 63101101 | T12: Introducción a la Economía GD [1] 63101109 | V12: Introducción a la Administración de Empresas GD [2] 63101105 | X12: 0.625 | Y12: – | Z12: 0.64583333
A14: 0.64583333 | B14: – | C14: 0.66666667 | X14: 0.64583333 | Y14: – | Z14: 0.66666667
A16: 0.66666667 | B16: – | C16: 0.6875 | X16: 0.66666667 | Y16: – | Z16: 0.6875
A18: 0.6875 | B18: – | C18: 0.70833333 | X18: 0.6875 | Y18: – | Z18: 0.70833333
A20: 0.70833333 | B20: – | C20: 0.72916667 | D20: Introducción a la Administración de Empresas GD 63101105 | H20: Introducción al Derecho GD 63101102 | L20: Introducción al Derecho GT-D1 [1] 63101102 | M20: Matemáticas GT-D2 [1] 63101104 | N20: Introducción al Derecho GD [2] 63101102 | P20: Introducción al Derecho GT-D2 [1] 63101102 | Q20: Introducción a la Administración de Empresas GT-D1 [1] 63101105 | R20: Historia Económica GT-D2 [2] 63101101 | S20: Introducción a la Economía GT-D1 [2] 63101109 | T20: Historia Económica GD [1] 63101101 | V20: Matemáticas GD [2] 63101104 | X20: 0.70833333 | Y20: – | Z20: 0.72916667
A22: 0.72916667 | B22: – | C22: 0.75 | X22: 0.72916667 | Y22: – | Z22: 0.75
A24: 0.75 | B24: – | C24: 0.77083333 | X24: 0.75 | Y24: – | Z24: 0.77083333
A26: 0.77083333 | B26: – | C26: 0.79166667 | X26: 0.77083333 | Y26: – | Z26: 0.79166667
A28: 0.79166667 | B28: – | C28: 0.8125 | X28: 0.79166667 | Y28: – | Z28: 0.8125
A30: 0.8125 | B30: – | C30: 0.83333333 | X30: 0.8125 | Y30: – | Z30: 0.83333333
D38: [1] Semana Impar
D39: [2] Semana Par
D42: DURANTE LA PRIMERA SEMANA DE CLASE DEL CUATRIMESTRE SOLO SE IMPARTIRÁN LOS GRUPOS DOCENTES

Sheet  1ºD C2
A1: Titulación: | D1: Grados ADE, FINANZAS Y CONTABILIDAD, MARKETING Y ECONOMIA | M1: Inicio
A2: Curso: | D2: 1º
A3: Grupo: | D3: D | F3: Aula: | G3: 9 | H3: Aulario: | I3: 2
A4: Cuatrimestre: | D4: 2º
D7: Lunes | H7: Martes | L7: Miércoles | P7: Jueves | T7: Viernes
A12: 0.625 | B12: – | C12: 0.64583333 | D12: Introducción al Marketing GD 63101108 | H12: Introducción a las Finanzas GD 63101106 | L12: Estadística GD 63101103 | P12: Introducción a las Finanzas GT-D2 [1] 63101106 | Q12: Introducción al Marketing GT-D1 [1] 63101108 | R12: Introducción a la Contabilidad GT-D2 [2] 63101107 | S12: Microeconomía GT-D1 [2] 63101110 | T12: Microeconomía GD [1] 63101110 | V12: Estadística GD [2] 63101103 | X12: 0.625 | Y12: – | Z12: 0.64583333
A14: 0.64583333 | B14: – | C14: 0.66666667 | X14: 0.64583333 | Y14: – | Z14: 0.66666667
A16: 0.66666667 | B16: – | C16: 0.6875 | X16: 0.66666667 | Y16: – | Z16: 0.6875
A18: 0.6875 | B18: – | C18: 0.70833333 | X18: 0.6875 | Y18: – | Z18: 0.70833333
A20: 0.70833333 | B20: – | C20: 0.72916667 | D20: Introducción a la Contabilidad GD 63101107 | H20: Microeconomía GD 63101110 | L20: Introducción al Marketing GT-D2 [1] 63101108 | M20: Estadística GT-D1 [1] 63101103 | N20: Introducción al Marketing GD [2] 63101108 | P20: Estadística GT-D2 [1] 63101103 | Q20: Introducción a las Finanzas GT-D1 [1] 63101106 | R20: Microeconomía GT-D2 [2] 63101110 | S20: Introducción a la Contabilidad GT-D1 [2] 63101107 | T20: Introducción a las Finanzas GD [1] 63101106 | V20: Introducción a la Contabilidad GD [2] 63101107 | X20: 0.70833333 | Y20: – | Z20: 0.72916667
A22: 0.72916667 | B22: - | C22: 0.75 | X22: 0.72916667 | Y22: - | Z22: 0.75
A24: 0.75 | B24: – | C24: 0.77083333 | X24: 0.75 | Y24: – | Z24: 0.77083333
A26: 0.77083333 | B26: – | C26: 0.79166667 | X26: 0.77083333 | Y26: – | Z26: 0.79166667
A28: 0.79166667 | B28: – | C28: 0.8125 | X28: 0.79166667 | Y28: – | Z28: 0.8125
A30: 0.8125 | B30: – | C30: 0.83333333 | X30: 0.8125 | Y30: – | Z30: 0.83333333
D38: [1] Semana Impar
D39: [2] Semana Par
D42: DURANTE LA PRIMERA SEMANA DE CLASE DEL CUATRIMESTRE SOLO SE IMPARTIRÁN LOS GRUPOS DOCENTES

Sheet 1ºE C1
A1: Titulación: | D1: Grados ADE, FINANZAS Y CONTABILIDAD, MARKETING Y ECONOMIA | M1: Inicio
A2: Curso: | D2: 1º
A3: Grupo: | D3: E | F3: Aula: | G3: 10 | H3: Aulario: | I3: 2
A4: Cuatrimestre: | D4: 1º
D7: Lunes | H7: Martes | L7: Miércoles | P7: Jueves | T7: Viernes
A12: 0.625 | B12: – | C12: 0.64583333 | D12: Matemáticas GD 63101104 | H12: Historia Económica GD 63101101 | L12: Introducción a la Economía GT-E1 [1] 63101109 | M12: Historia Económica GT-E2 [1] 63101101 | N12: Introducción a la Economía GD [2] 63101109 | P12: Matemáticas GD [1] 63101104 | R12: Historia Económica GD [2] 63101101 | T12: Introducción a la Economía GD 63101109 | X12: 0.625 | Y12: – | Z12: 0.64583333
A14: 0.64583333 | B14: – | C14: 0.66666667 | X14: 0.64583333 | Y14: – | Z14: 0.66666667
A16: 0.66666667 | B16: – | C16: 0.6875 | X16: 0.66666667 | Y16: – | Z16: 0.6875
A18: 0.6875 | B18: – | C18: 0.70833333 | X18: 0.6875 | Y18: – | Z18: 0.70833333
A20: 0.70833333 | B20: – | C20: 0.72916667 | D20: Introducción al Derecho GD 63101102 | H20: Introducción a la Administración de Empresas GD 63101105 | L20: Historia Económica GT-E1 [1] 63101101 | M20: Introducción a la Economía GT-E2 [1] 63101109 | N20: Introducción al Derecho GT-E2 [2] 63101102 | O20: Matemáticas GT-E2 [2] 63101104 | P20: Introducción a la Administración de Empresas GT-E2 [1] 63101105 | R20: Matemáticas GT-E1 [2] 63101104 | T20: Introducción al Derecho GD [1] 63101102 | V20: Introducción a la Administración de Empresas GD [2] 63101105 | X20: 0.70833333 | Y20: – | Z20: 0.72916667
A22: 0.72916667 | B22: – | C22: 0.75 | X22: 0.72916667 | Y22: – | Z22: 0.75
A24: 0.75 | B24: – | C24: 0.77083333 | X24: 0.75 | Y24: – | Z24: 0.77083333
A26: 0.77083333 | B26: – | C26: 0.79166667 | X26: 0.77083333 | Y26: – | Z26: 0.79166667
A28: 0.79166667 | B28: – | C28: 0.8125 | P28: Introducción a la Administración de Empresas GT-E1 [1] 63101105 | R28: Introducción al Derecho GT-E1 [2] 63101102 | X28: 0.79166667 | Y28: – | Z28: 0.8125
A30: 0.8125 | B30: – | C30: 0.83333333 | X30: 0.8125 | Y30: – | Z30: 0.83333333
A32: 0.83333333 | B32: – | C32: 0.85416667 | X32: 0.83333333 | Y32: – | Z32: 0.85416667
A34: 0.85416667 | B34: – | C34: 0.875 | X34: 0.85416667 | Y34: – | Z34: 0.875
D38: [1] Semana Impar
D39: [2] Semana Par
D42: DURANTE LA PRIMERA SEMANA DE CLASE DEL CUATRIMESTRE SOLO SE IMPARTIRÁN LOS GRUPOS DOCENTES

Sheet  1ºE C2
A1: Titulación: | D1: Grados ADE, FINANZAS Y CONTABILIDAD, MARKETING Y ECONOMIA | P1: 6310 | U1: Inicio
A2: Curso: | D2: 1º
A3: Grupo: | D3: E | F3: Aula: | G3: 10 | H3: Aulario: | I3: 2
A4: Cuatrimestre: | D4: 2º
E7: Lunes | I7: Martes | L7: Miércoles | P7: Jueves | T7: Viernes
A12: 0.625 | B12: – | C12: 0.64583333 | D12: Microeconomía GD 63101110 | H12: Introducción a la Contabilidad GD 63101107 | L12: Introducción al Marketing GD 63101108 | P12: Microeconomía GD [1] 63101110 | R12: Introducción a la Contabilidad GT-E1 [2] 63101107 | S12: Introducción al Marketing GT-E2 [2] 63101108 | T12: Introducción al Marketing GD [1] 63101108 | V12: Introducción a la Contabilidad GD [2] 63101107 | X12: 0.625 | Y12: – | Z12: 0.64583333
A14: 0.64583333 | B14: – | C14: 0.66666667 | X14: 0.64583333 | Y14: – | Z14: 0.66666667
A16: 0.66666667 | B16: – | C16: 0.6875 | X16: 0.66666667 | Y16: – | Z16: 0.6875
A18: 0.6875 | B18: – | C18: 0.70833333 | X18: 0.6875 | Y18: – | Z18: 0.70833333
A20: 0.70833333 | B20: – | C20: 0.72916667 | D20: Introducción a las Finanzas GD 63101106 | H20: Estadística GD 63101103 | L20: Estadística GT-E1 [1] 63101103 | M20: Introducción a las Finanzas GT-E2 [1] 63101106 | N20: Microeconomía GT-E2 [2] 63101110 | P20: Estadística GT-E2 [1] 63101103 | Q20: Introducción a las Finanzas GT-E1 [1] 63101106 | R20: Introducción al Marketing GT-E1 [2] 63101108 | S20: Introducción a la Contabilidad GT-E2 [2] 63101107 | T20: Introducción a las Finanzas GD [1] 63101106 | V20: Estadística GD [2] 63101103 | X20: 0.70833333 | Y20: – | Z20: 0.72916667
A22: 0.72916667 | B22: – | C22: 0.75 | X22: 0.72916667 | Y22: – | Z22: 0.75
A24: 0.75 | B24: – | C24: 0.77083333 | X24: 0.75 | Y24: – | Z24: 0.77083333
A26: 0.77083333 | B26: – | C26: 0.79166667 | X26: 0.77083333 | Y26: – | Z26: 0.79166667
A28: 0.79166667 | B28: – | C28: 0.8125 | N28: Microeconomía GT-E1 [2] 63101110 | X28: 0.79166667 | Y28: – | Z28: 0.8125
A30: 0.8125 | B30: – | C30: 0.83333333 | X30: 0.8125 | Y30: – | Z30: 0.83333333
A32: 0.83333333 | B32: – | C32: 0.85416667 | X32: 0.83333333 | Y32: – | Z32: 0.85416667
A34: 0.85416667 | B34: – | C34: 0.875 | X34: 0.85416667 | Y34: – | Z34: 0.875
D38: [1] Semana Impar
D39: [2] Semana Par
D42: DURANTE LA PRIMERA SEMANA DE CLASE DEL CUATRIMESTRE SOLO SE IMPARTIRÁN LOS GRUPOS DOCENTES

Sheet  1ºF C1
A1: Titulación: | D1: Grados ADE, FINANZAS Y CONTABILIDAD, MARKETING Y ECONOMIA | M1: Inicio
A2: Curso: | D2: 1º
A3: Grupo: | D3: F | F3: Aula: | G3: 13 | H3: Aulario: | I3: 2
A4: Cuatrimestre: | D4: 1º
D7: Lunes | H7: Martes | L7: Miércoles | P7: Jueves | T7: Viernes
A12: 0.625 | B12: – | C12: 0.64583333 | D12: Introducción al Derecho GD 63101102 | H12: Introducción a la Administración de Empresas GD 63101105 | L12: Historia Económica GD 63101101 | P12: Introducción a la Economía GT-F2 [1] 63101109 | Q12: Historia Económica GT-F1 [1] 63101101 | R12: Introducción a la Administración de Empresas GT-F1 [2] 63101105 | S12: Matemáticas GT-F2 [2] 63101104 | T12: Introducción al Derecho GD [1] 63101102 | V12: Introducción a la Economía GD [2] 63101109 | X12: 0.625 | Y12: – | Z12: 0.64583333
A14: 0.64583333 | B14: – | C14: 0.66666667 | X14: 0.64583333 | Y14: – | Z14: 0.66666667
A16: 0.66666667 | B16: – | C16: 0.6875 | X16: 0.66666667 | Y16: – | Z16: 0.6875
A18: 0.6875 | B18: – | C18: 0.70833333 | X18: 0.6875 | Y18: – | Z18: 0.70833333
A20: 0.70833333 | B20: – | C20: 0.72916667 | D20: Introducción a la Economía GD 63101109 | H20: Matemáticas GD 63101104 | L20: Introducción a la Administración de Empresas GD [1] 63101105 | N20: Introducción al Derecho GT-F2 [2] 63101102 | O20: Matemáticas GT-F1 [2] 63101104 | P20: Historia Económica GT-F2 [1] 63101101 | Q20: Introducción a la Economía GT-F1 [1] 63101109 | R20: Introducción al Derecho GT-F1 [2] 63101102 | S20: Introducción a la Administración de Empresas GT-F2 [2] 63101105 | T20: Matemáticas GD [1] 63101104 | V20: Historia Económica GD [2] 63101101 | X20: 0.70833333 | Y20: – | Z20: 0.72916667
A22: 0.72916667 | B22: – | C22: 0.75 | X22: 0.72916667 | Y22: – | Z22: 0.75
A24: 0.75 | B24: – | C24: 0.77083333 | X24: 0.75 | Y24: – | Z24: 0.77083333
A26: 0.77083333 | B26: – | C26: 0.79166667 | X26: 0.77083333 | Y26: – | Z26: 0.79166667
A28: 0.79166667 | B28: – | C28: 0.8125 | X28: 0.79166667 | Y28: – | Z28: 0.8125
A30: 0.8125 | B30: – | C30: 0.83333333 | X30: 0.8125 | Y30: – | Z30: 0.83333333
D38: [1] Semana Impar
D39: [2] Semana Par
D42: DURANTE LA PRIMERA SEMANA DE CLASE DEL CUATRIMESTRE SOLO SE IMPARTIRÁN LOS GRUPOS DOCENTES

Sheet  1ºF C2
A1: Titulación: | D1: Grados ADE, FINANZAS Y CONTABILIDAD, MARKETING Y ECONOMIA | M1: Inicio
A2: Curso: | D2: 1º
A3: Grupo: | D3: F | F3: Aula: | G3: 13 | H3: Aulario: | I3: 2
A4: Cuatrimestre: | D4: 2º
D7: Lunes | H7: Martes | L7: Miércoles | P7: Jueves | T7: Viernes
A12: 0.625 | B12: – | C12: 0.64583333 | D12: Introducción a las Finanzas GD 63101106 | H12: Introducción a la Contabilidad GD 63101107 | L12: Introducción al Marketing GD [1] 63101108 | N12: Introducción a la Contabilidad GD [2] 63101107 | P12: Microeconomía GT-F2 [1] 63101110 | Q12: Introducción a la Contabilidad GT-F1 [1] 63101107 | R12: Estadística GT-F1 [2] 63101103 | S12: Introducción al Marketing GT-F2 [2] 63101108 | T12: Introducción a las Finanzas GT-F1 [1] 63101106 | V12: Introducción a las Finanzas GT-F2 [2] 63101106 | X12: 0.625 | Y12: – | Z12: 0.64583333
A14: 0.64583333 | B14: – | C14: 0.66666667 | X14: 0.64583333 | Y14: – | Z14: 0.66666667
A16: 0.66666667 | B16: – | C16: 0.6875 | X16: 0.66666667 | Y16: – | Z16: 0.6875
A18: 0.6875 | B18: – | C18: 0.70833333 | X18: 0.6875 | Y18: – | Z18: 0.70833333
A20: 0.70833333 | B20: – | C20: 0.72916667 | D20: Introducción al Marketing GD 63101108 | H20: Estadística GD 63101103 | L20: Microeconomía GD 63101110 | P20: Introducción a la Contabilidad GT-F2 [1] 63101107 | Q20: Microeconomía GT-F1 [1] 63101110 | R20: Introducción al Marketing GT-F1 [2] 63101108 | S20: Estadística GT-F2 [2] 63101103 | T20: Microeconomía GD [1] 63101110 | V20: Estadística GD [2] 63101103 | X20: 0.70833333 | Y20: – | Z20: 0.72916667
A22: 0.72916667 | B22: – | C22: 0.75 | X22: 0.72916667 | Y22: – | Z22: 0.75
A24: 0.75 | B24: – | C24: 0.77083333 | X24: 0.75 | Y24: – | Z24: 0.77083333
A26: 0.77083333 | B26: – | C26: 0.79166667 | X26: 0.77083333 | Y26: – | Z26: 0.79166667
A28: 0.79166667 | B28: – | C28: 0.8125 | P28: Introducción a las Finanzas GD 63101106 | X28: 0.79166667 | Y28: – | Z28: 0.8125
A30: 0.8125 | B30: – | C30: 0.83333333 | X30: 0.8125 | Y30: – | Z30: 0.83333333
D38: [1] Semana Impar
D39: [2] Semana Par
D42: DURANTE LA PRIMERA SEMANA DE CLASE DEL CUATRIMESTRE SOLO SE IMPARTIRÁN LOS GRUPOS DOCENTES

Sheet  1ºG C1
A1: Titulación: | D1: Grados ADE, FINANZAS Y CONTABILIDAD, MARKETING Y ECONOMIA + Doble Grado en Economía y Matemáticas | T1: Inicio
A2: Curso: | D2: 1º
A3: Grupo: | D3: G con el Doble Grado en Economía y Matemáticas | L3: Aula: | M3: 11 | N3: Aulario: | O3: 2
A4: Cuatrimestre: | D4: 1º
H7: DG ECOyMAT reservado matemáticas | N7: DG ECOyMAT reservado matemáticas | T7: DG ECOyMAT reservado matemáticas | Z7: DG ECOyMAT reservado matemáticas | AF7: DG ECOyMAT reservado matemáticas
D8: Lunes | J8: Martes | P8: Miércoles | V8: Jueves | AB8: Viernes
A9: 0.33333333 | B9: – | C9: 0.35416667 | AH9: 0.33333333 | AI9: – | AJ9: 0.35416667
A11: 0.35416667 | B11: – | C11: 0.375 | AH11: 0.35416667 | AI11: – | AJ11: 0.375
A13: 0.375 | B13: – | C13: 0.39583333 | D13: Introducción a la Administración de Empresas GT-G2 [1] 63101105 | F13: Introducción al Derecho GT-G2 [2] 63101102 | H13: todas las semanas | J13: Introducción a la Administración de Empresas GT-G1 [1] 63101105 | L13: Introducción al Derecho GT-G1 [2] 63101102 | N13: semanas pares | P13: Introducción a la Administración de Empresas GD 63101105 | Z13: todas las semanas | AF13: todas las semanas | AH13: 0.375 | AI13: – | AJ13: 0.39583333
A15: 0.39583333 | B15: – | C15: 0.41666667 | AH15: 0.39583333 | AI15: – | AJ15: 0.41666667
A17: 0.41666667 | B17: – | C17: 0.4375 | H17: todas las semanas | N17: semanas pares | Z17: todas las semanas | AF17: todas las semanas | AH17: 0.41666667 | AI17: – | AJ17: 0.4375
A19: 0.4375 | B19: – | C19: 0.45833333 | AH19: 0.4375 | AI19: – | AJ19: 0.45833333
A21: 0.45833333 | B21: – | C21: 0.47916667 | D21: Introducción a la Economía GT-G2 [1] 63101109 | F21: Matemáticas GT-G2 [2] 63101104 | H21: todas las semanas | J21: Historia Económica GT-G1 [1] 63101101 | L21: Matemáticas GT-G1 [2] 63101104 | N21: semanas pares | P21: Matemáticas GD 63101104 | T21: todas las semanas | V21: Introducción a la Economía GD 63101109 | AB21: Introducción al Derecho GD [1] 63101102 | AD21: Matemáticas GD [2] 63101104 | AF21: todas las semanas | AH21: 0.45833333 | AI21: – | AJ21: 0.47916667
A23: 0.47916667 | B23: – | C23: 0.5 | AH23: 0.47916667 | AI23: – | AJ23: 0.5
A25: 0.5 | B25: – | C25: 0.52083333 | H25: todas las semanas | N25: semanas pares | T25: todas las semanas | AF25: todas las semanas | AH25: 0.5 | AI25: – | AJ25: 0.52083333
A27: 0.52083333 | B27: – | C27: 0.54166667 | AH27: 0.52083333 | AI27: – | AJ27: 0.54166667
A29: 0.54166667 | B29: – | C29: 0.5625 | D29: Historia Económica GT-G2 [1] 63101101 | H29: todas las semanas | J29: Introducción a la Economía GT-G1 [1] 63101109 | L29: Introducción a la Administración de Empresas GD [2] 63101105 | P29: Introducción al Derecho GD 63101102 | T29: todas las semanas | V29: Historia Económica GD 63101101 | AB29: Introducción a la Economía GD [1] 63101109 | AD29: Historia Económica GD [2] 63101101 | AH29: 0.54166667 | AI29: – | AJ29: 0.5625
A31: 0.5625 | B31: – | C31: 0.58333333 | AH31: 0.5625 | AI31: – | AJ31: 0.58333333
A33: 0.58333333 | B33: – | C33: 0.60416667 | H33: todas las semanas | T33: todas las semanas | AH33: 0.58333333 | AI33: – | AJ33: 0.60416667
A35: 0.60416667 | B35: – | C35: 0.625 | AH35: 0.60416667 | AI35: – | AJ35: 0.625
D38: [1] Semana Impar
D39: [2] Semana Par
D41: DURANTE LA PRIMERA SEMANA DE CLASE DEL CUATRIMESTRE SOLO SE IMPARTIRÁN LOS GRUPOS DOCENTES
C43: Este horario está coordinado con el Grado en Matemáticas y NO PUEDE MODIFICARSE
C45: Asignaturas de la Facultad de Empresariales para los alumnos del Doble Grado en ECOyMAT: Historia Económica, Introducción a la Administración de Empresas, Introducción a la Economía
C47: Los alumnos del Doble Grado en ECOyMAT siempre van al GTG1 y dicho GT se completa con alumnos de los grados sencillos

Sheet  1ºG C2
